BEGIN:VCALENDAR
METHOD:PUBLISH
PRODID:-//doubleknot.com//CalenderEvent MIMEDIR//EN
VERSION:2.0
BEGIN:VEVENT
UID:3141186-20260509T140000Z-20260509T153000Z@doubleknot.com
CREATED:20260317T165527Z
LAST-MODIFIED:20260317T170229Z
DTSTAMP:20260423T220509Z
DTSTART:20260509T140000Z
DTEND:20260509T153000Z
LOCATION:1600 Riverside Road, Jamestown, NY 14701, US
CATEGORIES:Programs
DESCRIPTION:Little Explorers (Children 3 &ndash; 8 with an adult) \n  \n Down in the Dirt \n  \n  \n  \n Saturday, May 9, 2026 \n  \n 10:00 &ndash; 11:30 a.m. \n  \n  \n $12 Adults; $9 Nature Center members \n  \n $9 Children 3 &ndash; 8 \n  \n  \n Paid reservations required by Thursday, May 7, 2026 \n  \n  \n  \n At Little Explorers, children ages 3 - 8 and their adults can take a closer look at the world underfoot and explore the soil, rocks, and other things that make up the ground you walk on.  \n  \n  \n  \n It&rsquo;s easy to focus on the things that are moving, growing, and changing in nature each spring, but what is going on in the ground underneath you? What is soil made of, anyway? And what else can you find buried in the dirt and mud? Join Audubon to learn more about how soil is made, explore some different types of rocks, and maybe find some living things hiding in the dirt. \n  \n  \n  \n After an indoor lesson, be prepared to get a little dirty as you head outside for a short hike to get the scoop on soil, dig deep into mud, and see why rocks&hellip; well, rock!  \n  \n  \n  \n A snack is provided after the hike and a craft is offered if there is time.  \n  \n  \n  \n Special Information: This program takes place rain or shine, please dress for the weather. \n  \n  \n  \n Get a close-up view of the world underneath your feet, and spend some time with the soil, rocks, and mud outside. Learn more about soil, rocks, and the what&rsquo;s going on underground at ACNC&rsquo;s Little Explorers on May 9.  \n 
SUMMARY:Little Explorers Down in the Dirt (Children 3 – 8 with an adult)
PRIORITY:5
BEGIN:VALARM
TRIGGER:PT15M
ACTION:DISPLAY
DESCRIPTION:Reminder
PRIORITY:5
END:VALARM
END:VEVENT
END:VCALENDAR
