BEGIN:VCALENDAR
METHOD:PUBLISH
PRODID:-//doubleknot.com//CalenderEvent MIMEDIR//EN
VERSION:2.0
BEGIN:VEVENT
UID:3141184-20260503T163000Z-20260503T170000Z@doubleknot.com
CREATED:20260317T165114Z
LAST-MODIFIED:20260317T165342Z
DTSTAMP:20260423T220551Z
DTSTART:20260503T163000Z
DTEND:20260503T170000Z
LOCATION:1600 Riverside Road, Jamestown, NY 14701, US
CATEGORIES:Programs
DESCRIPTION:First Sunday Story Time (Children 2 &ndash; 8 with an adult) \n  \n  \n  \n Sunday, May 3, 2026 \n  \n 12:30 &ndash; 1:00 p.m. \n  \n  \n  \n Free for children and adults \n  \n  \n  \n Reservations requested by Saturday, May 2. \n  \n Enrollment limited to 15. Walk-ins accepted if room. \n  \n  \n  \n On the first Sunday of each month, bring your little ones for a free, nature-based story time at Audubon. \n  \n  \n  \n Children&rsquo;s books are powerful tools to connect children to nature and establish a strong foundation for their educational journey. Join Claire Certo on the first Sunday of the month for a half-hour story time. Children will go on literary adventures with animals, through habitats and seasons, and discover new things with every page each month. \n  \n  \n  \n This program is free and so is Sunday admission. Come for story time and stay to explore the indoor Nature Play Area, live animals, and exhibits. \n  \n  \n  \n Special Information: Doors open at 12:20 p.m. with story time beginning at 12:30 p.m. The building will fully open at 1:00 p.m. \n  \n  \n  \n Join story teller Claire Certo for free First Sunday Storytime at 12:30 p.m. at Audubon Community Nature Center on May 3. \n 
SUMMARY:First Sunday Story Time (Children 2 – 8 with an adult)
PRIORITY:5
BEGIN:VALARM
TRIGGER:PT15M
ACTION:DISPLAY
DESCRIPTION:Reminder
PRIORITY:5
END:VALARM
END:VEVENT
END:VCALENDAR
