BEGIN:VCALENDAR
METHOD:PUBLISH
PRODID:-//doubleknot.com//CalenderEvent MIMEDIR//EN
VERSION:2.0
BEGIN:VEVENT
UID:3141179-20260502T140000Z-20260502T150000Z@doubleknot.com
CREATED:20260317T164259Z
LAST-MODIFIED:20260317T164931Z
DTSTAMP:20260423T223435Z
DTSTART:20260502T140000Z
DTEND:20260502T150000Z
LOCATION:1600 Riverside Road, Jamestown, NY 14701, US
CATEGORIES:Programs
DESCRIPTION:Audubon Photography Club (Adult+) \n  \n  \n  \n Saturday, May 2, 2026 \n  \n 10:00 &ndash; 11:00 a.m. \n  \n  \n  \n $4 Adults; $3 Nature Center members \n  \n $3 Children 9 &ndash; 15  \n  \n  \n  \n Reservations appreciated, walk-ins welcome. \n  \n  \n  \n Start the weekend with an opportunity to share your photos with other nature lovers and photographers!  \n  \n  \n  \n Welcoming all levels, the Audubon Photography Club encourages you to look at nature through a different lens. Plus, a brief presentation will be offered at the end to help you develop your nature photography skills. This group will meet the first Saturday of each month, but welcomes new photographers each time. Coffee and tea are provided.  \n  \n  \n  \n Special Information: Submit five photos, fitting the theme flowers or close-ups, one week before the first Saturday of the month. Please send them to Taylor Spontaneo at tspontaneo@auduboncnc.org to be included in the slideshow. \n  \n  \n  \n No matter what type of camera you have and what level you are at, join other photographers to share your photos and the stories behind them at ACNC&rsquo;s Photography Club on May 2. \n 
SUMMARY:Audubon Photography Club (Adult+)
PRIORITY:5
BEGIN:VALARM
TRIGGER:PT15M
ACTION:DISPLAY
DESCRIPTION:Reminder
PRIORITY:5
END:VALARM
END:VEVENT
END:VCALENDAR
