BEGIN:VCALENDAR
METHOD:PUBLISH
PRODID:-//doubleknot.com//CalenderEvent MIMEDIR//EN
VERSION:2.0
BEGIN:VEVENT
UID:2809551-20210620T233000Z-20210621T013000Z@doubleknot.com
CREATED:20210410T002802Z
LAST-MODIFIED:20210617T191135Z
DTSTAMP:20260426T000421Z
DTSTART:20210620T233000Z
DTEND:20210621T013000Z
LOCATION:1600 Riverside Road, Jamestown, NY 14701, US
CATEGORIES:Programs
DESCRIPTION:Summer Solstice Bonfire (All) \n  \n  \n Sunday, June 20, 2021 \n  \n 7:30 - 9:30 p.m. \n  \n  \n $8 Adults \n  \n $6 Nature Center members \n  \n $2 Children 3 &ndash; 15; free 2 and under \n  \n  \n Reservations appreciated. Walk-ins welcome.   \n  \n  \n   \n  \n  \n For many, summer is a busy time of year as they take advantage of the limited number of warm weekends. You are invited to slow down and celebrate the Summer Solstice with Audubon. Come for as long as you like and take the time to relax in nature with friends, family, reflections, and a bonfire. \n  \n  \n The Summer Solstice and the surrounding days have been celebrated in a multitude of countries and cultures for hundreds of years. Around the world today, bonfires are still lit in celebration, often accompanied by festivals with food, friends and music. Take this time to reflect on what feelings, actions and practices you want to leave behind and what you want to take with you or begin anew during this time of change in both the seasons and our lives. You will also have the opportunity to participate in a reflective sunset hike on the trails. \n  \n  \n Audubon will have a bonfire blazing at the Urban Pavilion on the west side of the property. Come and celebrate the season as we embrace the changing seasons and abundance of light.  \n  \n  \n   \n  \n  \n Special Information: This program is outdoors. Please plan to walk a quarter mile to the bonfire and dress for the weather. \n  \n  \n COVID-19 Information: ACNC does not require face coverings outdoors, but does ask that unvaccinated individuals wear face coverings when inside the Nature Center building. \n 
SUMMARY:Summer Solstice Bonfire (All)
PRIORITY:5
BEGIN:VALARM
TRIGGER:PT15M
ACTION:DISPLAY
DESCRIPTION:Reminder
PRIORITY:5
END:VALARM
END:VEVENT
END:VCALENDAR
